BEGIN:VCALENDAR
VERSION:2.0
PRODID:icalendar-ruby
CALSCALE:GREGORIAN
METHOD:PUBLISH
BEGIN:VEVENT
DTSTAMP:20260421T043030Z
UID:339-7663778@thereishope.ca
DTSTART:20260707T020000Z
DTEND:20260707T030000Z
CLASS:PUBLIC
CREATED:20260420T160102
DESCRIPTION:Pastor Alan &amp\; Catherine Pysar invite those who are able\, 
 and in the vicinity of the meeting\, to join the designated homes who will
  be hosting and facilitating this prayer time each Monday evening.\nFor th
 ose who are not able to attend\, we invite you to pray at your own home\, 
 at the same time\, for whatever needs the Lord puts on your heart for NHC.
  \n\nRecurring Every Month\n\n1st Monday → Hussein Nyende &amp\; Ken Ata
 hura – 18231 80 Ave NW Edmonton\n2nd Monday → The Wiltons – 3015 111
  Ave NW Edmonton\n3rd Monday → The Pysars – 5911 121 Ave NW Edmonton\n
 4th Monday → The Stelters – 13404 105 St NW Edmonton\n5th Monday (when
  it occurs) The Pysars – 5911 121 Ave NW Edmonton\n\n\nItinerary for Mee
 tings\nBegin with a praise song or two followed by prayer needs for NHC.\n
 \nFacilitators\nPlease contact people in your area who attend our church\n
 Invite them to the prayer meeting\, and to arrange\, if possible\, carpool
 ing.\n\n\nHERE ARE A FEW VERY IMPORTANT AREAS TO BE PRAYING ABOUT:\n\nFor 
 God's grace in the planning and production of our SOCIAL MEDIA OUTREACH 
 \nFor an increase in attendance\, spiritual transformation\, new attendees
  and finances needed for the operation of the church.\nHealth and all-roun
 d wellness for those with physical and emotional illness.\nFor an outpouri
 ng of the Spirit for Spiritual gifts and fruit of the Spirit. \n\n\nThere
 's no doubt in our hearts that consistent prayer is the best foundation we
  can keep building on to keep NHC moving in God's direction for the future
 . \n\n\nActs 4:29-31: Now\, Lord\, consider their threats and enable you
 r servants to speak your word with great boldness. Stretch out your hand t
 o heal and perform miraculous signs and wonders through the name of your h
 oly servant Jesus. After they prayed\, the place where they were meeting w
 as shaken. And they were all filled with the Holy Spirit and spoke the wor
 d of God boldly.\n\nLet us all join in one accord for the plans and purpos
 es of the Lord for New Hope Church.\n\nPastors Alan and Catherine Pysar\n\
 nIf you have any questions or concerns\, please do not hesistate to email 
 us at nhca4u@gmail.com
LAST-MODIFIED:20260420T160102
LOCATION:
SUMMARY:Monday Evening Home Prayer Meeting
URL;VALUE=URI:https://www.thereishope.ca/events/monday-evening-home-prayer-
 meeting/2026-07-06
ATTACH;FILENAME=ChatGPT-Image-Apr-19-2026-06_54_30-PM.png;FMTTYPE=image/png
 :https://dq5pwpg1q8ru0.cloudfront.net/2026/04/20/01/00/30/b4b93843-cfdd-49
 04-bd07-f28ace11c995/ChatGPT-Image-Apr-19-2026-06_54_30-PM.png
END:VEVENT
END:VCALENDAR
