BEGIN:VCALENDAR
VERSION:2.0
PRODID:icalendar-ruby
CALSCALE:GREGORIAN
METHOD:PUBLISH
BEGIN:VEVENT
DTSTAMP:20260420T030023Z
UID:337-7630208@thereishope.ca
DTSTART:20260510T173000Z
DTEND:20260510T200000Z
CLASS:PUBLIC
CREATED:20260419T072509
DESCRIPTION:
LAST-MODIFIED:20260419T072509
LOCATION:7625 89 Street NW\, Edmonton
SUMMARY:Mother's Day
URL;VALUE=URI:https://www.thereishope.ca/events/mothers-day--337/2026-05-10
ATTACH;FILENAME=Mothers-Day.png;FMTTYPE=image/png:https://dq5pwpg1q8ru0.clo
 udfront.net/2026/04/19/14/25/09/f07b5551-3c93-4537-b6fe-52776ede89f6/Mothe
 rs-Day.png
END:VEVENT
END:VCALENDAR
