BEGIN:VCALENDAR
VERSION:2.0
PRODID:icalendar-ruby
CALSCALE:GREGORIAN
METHOD:PUBLISH
BEGIN:VEVENT
DTSTAMP:20260421T000145Z
UID:327-7663747@thereishope.ca
DTSTART:20260618T020000Z
DTEND:20260618T030000Z
CLASS:PUBLIC
CREATED:20260420T160102
DESCRIPTION:Join Us for Virtual Fellowship\n\nWe invite you to gather with 
 us on Zoom for heartfelt conversation\, fervent prayer\, and a deep dive i
 nto God’s Word. Whether you’re joining from your phone\, tablet\, or c
 omputer\, your presence is valued and makes a difference. Feel free to par
 ticipate at your comfort level — you can keep your video and microphone 
 muted if you prefer\, or actively engage in the discussion. We always clos
 e our time together by lifting one another up in prayer. There’s somethi
 ng powerful about coming together as a church family — even virtually 
 — to grow in faith\, encourage one another\, and seek God’s guidance a
 nd grace.\nWe look forward to seeing you this Wednesday night!\n\nClick He
 re to join the Zoom Chat\nMeeting ID: 899 1425 5871\nPasscode: 257149
LAST-MODIFIED:20260420T160102
LOCATION:
SUMMARY:Wednesday Night Bible Study
URL;VALUE=URI:https://www.thereishope.ca/events/wednesday-night-bible-study
 /2026-06-17
ATTACH;FILENAME=Bible-Study.jpg;FMTTYPE=image/jpeg:https://dq5pwpg1q8ru0.cl
 oudfront.net/2026/04/02/23/36/23/1b16074d-ec97-448a-a3da-c16ce61c061b/Bibl
 e-Study.jpg
END:VEVENT
END:VCALENDAR
